BEGIN:VCALENDAR
VERSION:2.0
PRODID:-//Palliative Care WA - ECPv6.15.20//NONSGML v1.0//EN
CALSCALE:GREGORIAN
METHOD:PUBLISH
X-ORIGINAL-URL:https://palliativecarewa.asn.au
X-WR-CALDESC:Events for Palliative Care WA
REFRESH-INTERVAL;VALUE=DURATION:PT1H
X-Robots-Tag:noindex
X-PUBLISHED-TTL:PT1H
BEGIN:VTIMEZONE
TZID:Australia/Perth
BEGIN:STANDARD
TZOFFSETFROM:+0800
TZOFFSETTO:+0800
TZNAME:AWST
DTSTART:20240101T000000
END:STANDARD
END:VTIMEZONE
BEGIN:VEVENT
DTSTART;TZID=Australia/Perth:20251107T093000
DTEND;TZID=Australia/Perth:20251107T120000
DTSTAMP:20260423T185744
CREATED:20250702T081544Z
LAST-MODIFIED:20250702T081634Z
UID:18660-1762507800-1762516800@palliativecarewa.asn.au
SUMMARY:My Future Care – Advance Care Planning Community Workshop – open to the public
DESCRIPTION:We all want to have a say in what happens in the last part of our lives. By making plans that cover our care\, lifestyle\, health and finances\, we work out what we want\, as well as making things easier on those around us. This process is called Advance Care Planning. \nThis workshop hosted by the Glyde-In Community Learning Centre in East Fremantle will cover information on what is involved in Advance Care Planning\, how to get started\, and how to talk with your loved ones about your end-of-life wishes. It is a practical and interactive workshop where you will have the chance to get your questions answered. \nWho is this for? \nThis face-to-face workshop is suitable for any community members regardless of age\, health or background. You don’t need any prior knowledge of Advance Care Planning to take part. To book your place please contact Jacqui Reeves\, Coordinator\, Glyde-In Community Learning Centre via phone 9339 3964. \nWant to organise a workshop? \nWe provide free community workshops on Advance Care Planning and Palliative Care thanks to funding from the WA Health Department. If you would like to organise a workshop for your own community group\, organisation or workplace please contact us on info@palliativecarewa.asn.au.
URL:https://palliativecarewa.asn.au/event/my-future-care-advance-care-planning-community-workshop-open-to-the-public-55/
LOCATION:Glyde-In Community Centre\, 42 Glyde Street\, East Fremantle\, Western Australia\, 6158\, Australia
CATEGORIES:Community
ATTACH;FMTTYPE=image/png:https://palliativecarewa.asn.au/wp-content/uploads/2025/01/acp-model-talk-graphic.png
END:VEVENT
BEGIN:VEVENT
DTSTART;TZID=Australia/Perth:20251108T100000
DTEND;TZID=Australia/Perth:20251108T123000
DTSTAMP:20260423T185744
CREATED:20250919T082653Z
LAST-MODIFIED:20250919T082857Z
UID:19039-1762596000-1762605000@palliativecarewa.asn.au
SUMMARY:My Future Care – Advance Care Planning Community Workshop – open to the public
DESCRIPTION:We all want to have a say in what happens in the last part of our lives. By making plans that cover our care\, lifestyle\, health and finances\, we work out what we want\, as well as making things easier on those around us. This process is called Advance Care Planning. \nThis workshop hosted by the Swan Anglican Parish in Middle Swan at Minchin House\, will cover information on what is involved in Advance Care Planning\, how to get started\, and how to talk with your loved ones about your end-of-life wishes. It is a practical and interactive workshop where you will have the chance to get your questions answered. \nWho is this for? \nThis face-to-face workshop is suitable for any community members regardless of age\, health or background. You don’t need any prior knowledge of Advance Care Planning to take part. To book your place please contact Chris Harling on phone 0438 032 228 or email charling43@gmail.com. \nWant to organise a workshop? \nWe provide free community workshops on Advance Care Planning and Palliative Care thanks to funding from the WA Health Department. If you would like to organise a workshop for your own community group\, organisation or workplace please contact us on info@palliativecarewa.asn.au.
URL:https://palliativecarewa.asn.au/event/my-future-care-advance-care-planning-community-workshop-open-to-the-public-64/
LOCATION:Swan Anglican Parish\, 65 Yule Avenue\, Middle Swan\, WA\, 6056\, Australia
CATEGORIES:Community
ATTACH;FMTTYPE=image/jpeg:https://palliativecarewa.asn.au/wp-content/uploads/2024/04/ACP-model-talk-graphic.jpg
END:VEVENT
BEGIN:VEVENT
DTSTART;TZID=Australia/Perth:20251111T100000
DTEND;TZID=Australia/Perth:20251111T123000
DTSTAMP:20260423T185744
CREATED:20250919T080448Z
LAST-MODIFIED:20250919T080448Z
UID:19029-1762855200-1762864200@palliativecarewa.asn.au
SUMMARY:My Future Care – Advance Care Planning Community Workshop – open to the public
DESCRIPTION:We all want to have a say in what happens in the last part of our lives. By making plans that cover our care\, lifestyle\, health and finances\, we work out what we want\, as well as making things easier on those around us. This process is called Advance Care Planning. \nThis workshop hosted by the City of Bayswater at the Morley Community Centre\, will cover information on what is involved in Advance Care Planning\, how to get started\, and how to talk with your loved ones about your end-of-life wishes. It is a practical and interactive workshop where you will have the chance to get your questions answered. \nWho is this for? \nThis face-to-face workshop is suitable for any community members regardless of age\, health or background. You don’t need any prior knowledge of Advance Care Planning to take part. To book your place\, please contact Emma Gyurity\, Community Programs Officer\, on 9208 2436 or email emma.gyurity@bayswater.wa.gov.au. \nWant to organise a workshop? \nWe provide free community workshops on Advance Care Planning and Palliative Care thanks to funding from the WA Health Department. If you would like to organise a workshop for your own community group\, organisation or workplace please contact us on info@palliativecarewa.asn.au.
URL:https://palliativecarewa.asn.au/event/my-future-care-advance-care-planning-community-workshop-open-to-the-public-63/
LOCATION:Morley Community Centre\, 6 Blades Close\, Morley\, WA\, 6062\, Australia
CATEGORIES:Community
ATTACH;FMTTYPE=image/png:https://palliativecarewa.asn.au/wp-content/uploads/2025/01/acp-model-talk-graphic.png
END:VEVENT
BEGIN:VEVENT
DTSTART;TZID=Australia/Perth:20251112T100000
DTEND;TZID=Australia/Perth:20251112T123000
DTSTAMP:20260423T185744
CREATED:20250605T093100Z
LAST-MODIFIED:20250605T093100Z
UID:18554-1762941600-1762950600@palliativecarewa.asn.au
SUMMARY:My Future Care – Advance Care Planning Community Workshop – open to the public
DESCRIPTION:We all want to have a say in what happens in the last part of our lives. By making plans that cover our care\, lifestyle\, health and finances\, we work out what we want\, as well as making things easier on those around us. This process is called Advance Care Planning. \nThis workshop at Whitfords Public Library will cover information on what is involved in Advance Care Planning\, how to get started\, and how to talk with your loved ones about your end-of-life wishes. It is a practical and interactive workshop where you will have the chance to get your questions answered. \nWho is this for? \nThis face-to-face workshop is suitable for any community members regardless of age\, health or background. You don’t need any prior knowledge of Advance Care Planning to take part. To book your place please contact Rebecca Marchenkov\, Library and Community Programs Officer\, phone: 9400 4761 or email: rebecca.marchenkov@joondalup.wa.gov.au \nWant to organise a workshop? \nWe provide free community workshops on Advance Care Planning and Palliative Care thanks to funding from the WA Health Department. If you would like to organise a workshop for your own community group\, organisation or workplace please contact us on info@palliativecarewa.asn.au.
URL:https://palliativecarewa.asn.au/event/my-future-care-advance-care-planning-community-workshop-open-to-the-public-49/
LOCATION:Whitfords Public Library\, 15 Banks Avenue\, Hillarys\, WA\, 6025\, Australia
CATEGORIES:Community
ATTACH;FMTTYPE=image/png:https://palliativecarewa.asn.au/wp-content/uploads/2025/01/acp-model-talk-graphic.png
END:VEVENT
BEGIN:VEVENT
DTSTART;TZID=Australia/Perth:20251113T093000
DTEND;TZID=Australia/Perth:20251113T120000
DTSTAMP:20260423T185744
CREATED:20250820T032337Z
LAST-MODIFIED:20250820T032411Z
UID:18907-1763026200-1763035200@palliativecarewa.asn.au
SUMMARY:My Future Care – Advance Care Planning Community Workshop – open to the public
DESCRIPTION:We all want to have a say in what happens in the last part of our lives. By making plans that cover our care\, lifestyle\, health and finances\, we work out what we want\, as well as making things easier on those around us. This process is called Advance Care Planning. \nThis workshop hosted by the Westcoast Community Centre at the Grove Library\, will cover information on what is involved in Advance Care Planning\, how to get started\, and how to talk with your loved ones about your end-of-life wishes. It is a practical and interactive workshop where you will have the chance to get your questions answered. \nWho is this for? \nThis face-to-face workshop is suitable for any community members regardless of age\, health or background. You don’t need any prior knowledge of Advance Care Planning to take part. To book your place please contact Faye Jones via faye.a.jones@hotmail.com or phone 0449 667 558. \nWant to organise a workshop? \nWe provide free community workshops on Advance Care Planning and Palliative Care thanks to funding from the WA Health Department. If you would like to organise a workshop for your own community group\, organisation or workplace please contact us on info@palliativecarewa.asn.au.
URL:https://palliativecarewa.asn.au/event/my-future-care-advance-care-planning-community-workshop-open-to-the-public-54/
LOCATION:Grove Library\, 1 Leake Street\, Peppermint Grove\, WA\, 6011\, Australia
CATEGORIES:Community
ATTACH;FMTTYPE=image/png:https://palliativecarewa.asn.au/wp-content/uploads/2025/01/acp-model-talk-graphic.png
END:VEVENT
BEGIN:VEVENT
DTSTART;TZID=Australia/Perth:20251118T140000
DTEND;TZID=Australia/Perth:20251118T153000
DTSTAMP:20260423T185744
CREATED:20250814T033504Z
LAST-MODIFIED:20250822T084825Z
UID:18886-1763474400-1763479800@palliativecarewa.asn.au
SUMMARY:My Future Care – Advance Care Planning Online Community Workshop
DESCRIPTION:We all want to have a say in what happens in the last part of our lives. By making plans that cover our care\, lifestyle\, health and finances\, we work out what we want\, as well as making things easier on those around us. This process is called Advance Care Planning. \nThis online workshop will cover information on what is involved in Advance Care Planning\, how to get started\, and how to talk with your loved ones about your end-of-life wishes. It is a practical and interactive workshop where you will have the chance to get your questions answered. \nWho is this for? \nThis online workshop is suitable for any community members regardless of age\, health or background. You don’t need any prior knowledge of Advance Care Planning to take part. \nThanks to funding from the WA Department of Health\, our workshops are free for anyone living in Western Australia. There is a fee for community members from elsewhere in Australia. We are not able to offer these workshops to international participants. \nRegistration information \n\nRegistrations are essential and can be made on Humanitix\nTwo days before your workshop we will send you a link to download the resources electronically and the Zoom link to join the workshop\nAfter you have completed the workshop\, we will post you the full resource pack.\n\nWhat else do you need to know? \n\nThis online workshop will be held using Zoom.\nWe will provide some tips on participating in online workshops and on using Zoom.\nWe recommend you use a desktop computer or tablet to get the most out of your workshop experience.\n\nAny questions? \nYou are welcome to contact us at Palliative Care WA if you have any questions on 1300 551 704 or info@palliativecarewa.asn.au. \nWant to organise a workshop? \nIf you would like to organise a free Advance Care Planning or Palliative Care community workshop for your own community group\, organisation or workplace please contact us on info@palliativecarewa.asn.au. \n 
URL:https://palliativecarewa.asn.au/event/18886/
CATEGORIES:Community
ATTACH;FMTTYPE=image/jpeg:https://palliativecarewa.asn.au/wp-content/uploads/2025/08/BpzLsGgg.jpeg
END:VEVENT
BEGIN:VEVENT
DTSTART;TZID=Australia/Perth:20251125T100000
DTEND;TZID=Australia/Perth:20251125T113000
DTSTAMP:20260423T185744
CREATED:20250814T031458Z
LAST-MODIFIED:20250918T020511Z
UID:18876-1764064800-1764070200@palliativecarewa.asn.au
SUMMARY:My Future Care - Advance Care Planning Online Community Workshop - Safe Space
DESCRIPTION:We all want to have a say in what happens in the last part of our lives. By making plans that cover our care\, lifestyle\, health and finances\, we work out what we want\, as well as making things easier on those around us. This process is called Advance Care Planning. \nThis online workshop will cover information on what is involved in Advance Care Planning\, how to get started\, and how to talk with your loved ones about your end-of-life wishes. It is a practical and interactive workshop where you will have the chance to get your questions answered. \nWho is this for? \nThis is one of our ‘safe space’ workshops. It is only open to people with a chronic condition or terminal illness\, as well as those who care for family or friends with a chronic condition or terminal illness. \nWhile the core information on Advance Care Planning that is covered is the same as other workshops that we run\, we recognise that some people will feel more comfortable sharing questions and concerns with those in similar circumstances … within a ‘safe space’. \nWe respectfully ask anyone who does not fit into this group\, to not register for this workshop. \nThanks to funding from the WA Department of Health\, our workshops are free for anyone living in Western Australia. There is a fee for community members from elsewhere in Australia. We are not able to offer these workshops to international participants. \nRegistration information \n\nRegistrations are essential and can be made on Humanitix\nTwo days before your workshop we will send you a link to download the resources electronically and the Zoom link to join the workshop\nAfter you have completed the workshop\, we will post you the full resource pack.\n\nWhat else do you need to know? \n\nThis online workshop will be held using Zoom.\nWe will provide some tips on participating in online workshops and on using Zoom.\nWe recommend you use a desktop computer or tablet to get the most out of your workshop experience.\n\nAny questions? \nYou are welcome to contact us at Palliative Care WA if you have any questions on 1300 551 704 or info@palliativecarewa.asn.au. \nWant to organise a workshop? \nIf you would like to organise a free Advance Care Planning or Palliative Care community workshop for your own community group\, organisation or workplace please contact us on info@palliativecarewa.asn.au.
URL:https://palliativecarewa.asn.au/event/my-future-care-advance-care-planning-online-community-workshop-safe-space-19/
CATEGORIES:Community
ATTACH;FMTTYPE=image/jpeg:https://palliativecarewa.asn.au/wp-content/uploads/2024/04/ACP-Support-Service-image-1024x769-1.jpeg
END:VEVENT
BEGIN:VEVENT
DTSTART;TZID=Australia/Perth:20251126T100000
DTEND;TZID=Australia/Perth:20251126T123000
DTSTAMP:20260423T185744
CREATED:20250702T083417Z
LAST-MODIFIED:20250822T080937Z
UID:18668-1764151200-1764160200@palliativecarewa.asn.au
SUMMARY:My Future Care – Advance Care Planning Community Workshop – open to the public
DESCRIPTION:We all want to have a say in what happens in the last part of our lives. By making plans that cover our care\, lifestyle\, health and finances\, we work out what we want\, as well as making things easier on those around us. This process is called Advance Care Planning. \nThis workshop hosted by the City of Fremantle at the Walyalup Civic Centre in Fremantle will cover information on what is involved in Advance Care Planning\, how to get started\, and how to talk with your loved ones about your end-of-life wishes. It is a practical and interactive workshop where you will have the chance to get your questions answered. \nWho is this for? \nThis face-to-face workshop is suitable for any community members regardless of age\, health or background. You don’t need any prior knowledge of Advance Care Planning to take part. To book your place please visit HERE. \nWant to organise a workshop? \nWe provide free community workshops on Advance Care Planning and Palliative Care thanks to funding from the WA Health Department. If you would like to organise a workshop for your own community group\, organisation or workplace please contact us on info@palliativecarewa.asn.au.
URL:https://palliativecarewa.asn.au/event/my-future-care-advance-care-planning-community-workshop-open-to-the-public-57/
LOCATION:Walyalup Civic Centre\, 151 High Street\, Fremantle\, WA\, 6160\, Australia
CATEGORIES:Community
ATTACH;FMTTYPE=image/png:https://palliativecarewa.asn.au/wp-content/uploads/2025/01/acp-model-talk-graphic.png
END:VEVENT
BEGIN:VEVENT
DTSTART;TZID=Australia/Perth:20251128T093000
DTEND;TZID=Australia/Perth:20251128T120000
DTSTAMP:20260423T185744
CREATED:20250702T082856Z
LAST-MODIFIED:20250702T082856Z
UID:18666-1764322200-1764331200@palliativecarewa.asn.au
SUMMARY:ACP Document completion workshop – at the Glyde-In Community Learning Centre
DESCRIPTION:If you have completed one of our Advance Care Planning workshops\, you are invited to attend a FREE ACP document completion workshop at the Glyde-In Centre at East Fremantle that will assist you to complete your Advance Health Directive. \nDuring this workshop we will work through each page of the AHD allowing you to work towards the completion of the document to a stage where it is ready for signing\, witnessing and presenting to your health professional. \nParticipants should have considered their end-of-life wishes\, values and preferences and should be ready to complete their document in preparation for attending this workshop. \nLimited places available in each workshop. Please contact Jacqui Reeves\, Coordinator Glyde-In Community Learning Centre on 9339 3964 to register your interest. \nIf you have any queries\, please call Palliative Care WA on 1300 551 704 or email info@palliativecarewa.asn.au.
URL:https://palliativecarewa.asn.au/event/acp-document-completion-workshop-at-the-glyde-in-community-learning-centre-3/
LOCATION:Glyde-In Community Centre\, 42 Glyde Street\, East Fremantle\, Western Australia\, 6158\, Australia
CATEGORIES:Community
ATTACH;FMTTYPE=image/jpeg:https://palliativecarewa.asn.au/wp-content/uploads/2025/01/IMG_8411.jpg
END:VEVENT
END:VCALENDAR