BEGIN:VCALENDAR
VERSION:2.0
PRODID:-//Palliative Care WA - ECPv6.15.20//NONSGML v1.0//EN
CALSCALE:GREGORIAN
METHOD:PUBLISH
X-WR-CALNAME:Palliative Care WA
X-ORIGINAL-URL:https://palliativecarewa.asn.au
X-WR-CALDESC:Events for Palliative Care WA
REFRESH-INTERVAL;VALUE=DURATION:PT1H
X-Robots-Tag:noindex
X-PUBLISHED-TTL:PT1H
BEGIN:VTIMEZONE
TZID:Australia/Perth
BEGIN:STANDARD
TZOFFSETFROM:+0800
TZOFFSETTO:+0800
TZNAME:AWST
DTSTART:20220101T000000
END:STANDARD
END:VTIMEZONE
BEGIN:VEVENT
DTSTART;TZID=Australia/Perth:20230524T180000
DTEND;TZID=Australia/Perth:20230524T200000
DTSTAMP:20260424T170306
CREATED:20230515T045636Z
LAST-MODIFIED:20230515T050326Z
UID:16177-1684951200-1684958400@palliativecarewa.asn.au
SUMMARY:Live the life you please - film screening during National Palliative Care Week
DESCRIPTION:Join us at the screening of ‘Live the life you please‘ during National Palliative Care Week 2023 at Event Cinemas in Innaloo on Wednesday 24 May at 6pm. \nAustralians like Julie and Allan will share their experiences in the film. \nJulie was pregnant with her second child when her husband\, Allan\, was in a rugby accident that left him a quadriplegic. \nAllan wanted to stay at home\, so his community banded together to build a house that could accommodate his disability. \nAllan’s friends and family would take him on outings\, for a coffee or a beer; he never lost his cheeky personality and was still the life of the party. \nHowever\, Allan’s condition began declining\, and he was diagnosed with Stage 4 melanoma. After researching his options and considering what he wanted the end of his life to look like\, Allan elected to receive palliative care to manage his symptoms and continue to live life on his terms until the end. \nWhen Allan died it was peaceful and without fear. \nThe film will be followed by a Q&A event with (MC) Sabena Lund – Community Education\, Palliative Care WA\, and panellists Jennifer Crossing – NODAC Coordinator Amana Living\, Margaret Quirk – Member for Landsdale\, Emily Hamilton – Member for Joondalup. \nTo book tickets please visit HERE  \n 
URL:https://palliativecarewa.asn.au/event/live-the-life-you-please-film-screening-during-national-palliative-care-week/
LOCATION:Event Cinemas Innaloo
CATEGORIES:Community
END:VEVENT
BEGIN:VEVENT
DTSTART;TZID=Australia/Perth:20230523T070000
DTEND;TZID=Australia/Perth:20230523T090000
DTSTAMP:20260424T170306
CREATED:20230414T093639Z
LAST-MODIFIED:20230522T014617Z
UID:16028-1684825200-1684832400@palliativecarewa.asn.au
SUMMARY:2023 National Palliative Care Week breakfast – in Perth\, Bunbury and Albany
DESCRIPTION:You are invited to join us for Breakfast in Perth\, Bunbury or Albany to catch up with colleagues during National Palliative Care Week 2023 and hear from our international speaker Dr Naheed Dosani and expert panel members Dr Kevin Yuen\, Theresa Kwok and Bernadette Nowak.  \nWe are pleased to be able to provide our signature PCWA Breakfast at three locations simultaneously – in the Perth metropolitan area\, Bunbury and also Albany for the first time. Our guest speaker will present online and our panelists will be live at the Perth event\, Fraser’s Kings Park – State Reception Centre\, while being live-streamed to the Bunbury event at the Quality Hotel Lighthouse and the Albany event at Hilton Garden Inn. \nVisit HERE for more details and HERE to book through Eventbrite. \nTo access a program visit HERE.
URL:https://palliativecarewa.asn.au/event/2023-national-palliative-care-week-breakfast-in-perth-bunbury-and-albany/
LOCATION:Frasers Kings Park\, Fraser Avenue\, West Perth\, Australia
CATEGORIES:Sector
END:VEVENT
BEGIN:VEVENT
DTSTART;TZID=Australia/Perth:20230517T183000
DTEND;TZID=Australia/Perth:20230517T200000
DTSTAMP:20260424T170306
CREATED:20230414T082505Z
LAST-MODIFIED:20230414T082709Z
UID:16025-1684348200-1684353600@palliativecarewa.asn.au
SUMMARY:My Future Care – Advance Care Planning Online Community Workshop
DESCRIPTION:We all want to have a say in what happens in the last part of our lives. By making plans that cover our care\, lifestyle\, health and finances\, we work out what we want\, as well as making things easier on those around us. This process is called Advance Care Planning. \nThis online workshop will cover information on what is involved in Advance Care Planning\, how to get started\, and how to talk with your loved ones about your end-of-life wishes. It is a practical and interactive workshop where you will have the chance to get your questions answered. \nWho is this for? \nThis online workshop is suitable for any community members regardless of age\, health or background. You don’t need any prior knowledge of Advance Care Planning to take part. \nThanks to funding from the WA Department of Health\, our workshops are free for anyone living in Western Australia. There is a fee for community members from elsewhere in Australia. We are not able to offer these workshops to international participants. \nRegistration information \n\nRegistrations are essential and can be made on Eventbrite\nAfter you register we will send you a resource pack that you need to participate in the workshop.\nIf you register by Wednesday 10 May we will post you the resource pack. If you live in regional or remote areas of WA we recommend you registering as soon as possible to give extra time for the resource pack to reach you. Anyone registering after then\, will receive their pack via email or can access the pack online.\nCloser to the date we will email you the Zoom link to use to access the workshop.\n\nWhat else do you need to know? \n\nThis online workshop will be held using Zoom.\nWe will provide some tips on participating in online workshops and on using Zoom.\nWe recommend you use a desktop computer or tablet to get the most out of your workshop experience.\n\nAny questions? \nYou are welcome to contact us at Palliative Care WA if you have any questions on 1300 551 704 or info@palliativecarewa.asn.au. \nWant to organise a workshop? \nIf you would like to organise a free Advance Care Planning or Palliative Care community workshop for your own community group\, organisation or workplace please contact us on info@palliativecarewa.asn.au.
URL:https://palliativecarewa.asn.au/event/my-future-care-advance-care-planning-online-community-workshop/
LOCATION:Western Australia
END:VEVENT
BEGIN:VEVENT
DTSTART;TZID=Australia/Perth:20230515T100000
DTEND;TZID=Australia/Perth:20230515T113000
DTSTAMP:20260424T170306
CREATED:20230414T082318Z
LAST-MODIFIED:20230414T082343Z
UID:16022-1684144800-1684150200@palliativecarewa.asn.au
SUMMARY:My Future Care – Advance Care Planning workshop – Not open to the public
DESCRIPTION:We all want to have a say in what happens in the last part of our lives. By making plans that cover our care\, lifestyle\, health and finances\, we work out what we want\, as well as making things easier on those around us. This process is called Advance Care Planning. \nThis workshop will cover information on what is involved in Advance Care Planning\, how to get started\, and how to talk with your loved ones about your end-of-life wishes. It is a practical and interactive workshop where you will have the chance to get your questions answered. \nWho is this for? \nThis workshop has been organised by the Fremantle Interagency group and is not open to the public. \nWant to organise a workshop? \nWe provide free community workshops on Advance Care Planning and Palliative Care thanks to funding from the WA Health Department. If you would like to organise a workshop for your own community group\, organisation or workplace please contact us on info@palliativecarewa.asn.au.
URL:https://palliativecarewa.asn.au/event/my-future-care-advance-care-planning-workshop-not-open-to-the-public-4/
LOCATION:Western Australia
END:VEVENT
BEGIN:VEVENT
DTSTART;TZID=Australia/Perth:20230511T100000
DTEND;TZID=Australia/Perth:20230511T113000
DTSTAMP:20260424T170306
CREATED:20230414T082006Z
LAST-MODIFIED:20230414T082006Z
UID:16018-1683799200-1683804600@palliativecarewa.asn.au
SUMMARY:My Future Care – Advance Care Planning Online Community Workshop – Safe Space
DESCRIPTION:We all want to have a say in what happens in the last part of our lives. By making plans that cover our care\, lifestyle\, health and finances\, we work out what we want\, as well as making things easier on those around us. This process is called Advance Care Planning. \nThis online workshop will cover information on what is involved in Advance Care Planning\, how to get started\, and how to talk with your loved ones about your end-of-life wishes. It is a practical and interactive workshop where you will have the chance to get your questions answered. \nWho is this for? \nThis is one of our ‘safe space’ workshops. It is only open to people with a chronic condition or terminal illness\, as well as those who care for family or friends with a chronic condition or terminal illness. \nWhile the core information on Advance Care Planning that is covered is the same as other workshops that we run\, we recognise that some people will feel more comfortable sharing questions and concerns with those in similar circumstances … within a ‘safe space’. \nWe respectfully ask anyone who does not fit into this group\, to not register for this workshop. \nThanks to funding from the WA Department of Health\, our workshops are free for anyone living in Western Australia. There is a fee for community members from elsewhere in Australia. We are not able to offer these workshops to international participants. \nRegistration information \n\nRegistrations are essential and can be made on Eventbrite\nAfter you register\, we will send you a resource pack that you need to participate in the workshop.\nIf you register by Thursday 4 May\, we will post you the resource pack. If you live in regional or remote areas of WA we recommend you registering as soon as possible to give extra time for the resource pack to reach you. Anyone registering after then\, will receive their pack via email or can access the pack online.\nCloser to the date we will email you the Zoom link to use to access the workshop.\n\nWhat else do you need to know? \n\nThis online workshop will be held using Zoom.\nWe will provide some tips on participating in online workshops and on using Zoom.\nWe recommend you use a desktop computer or tablet to get the most out of your workshop experience.\n\nAny questions? \nYou are welcome to contact us at Palliative Care WA if you have any questions on 1300 551 704 or info@palliativecarewa.asn.au. \nWant to organise a workshop? \nIf you would like to organise a free Advance Care Planning or Palliative Care community workshop for your own community group\, organisation or workplace please contact us on info@palliativecarewa.asn.au.
URL:https://palliativecarewa.asn.au/event/my-future-care-advance-care-planning-online-community-workshop-safe-space/
LOCATION:Western Australia
END:VEVENT
BEGIN:VEVENT
DTSTART;TZID=Australia/Perth:20230508T100000
DTEND;TZID=Australia/Perth:20230508T120000
DTSTAMP:20260424T170306
CREATED:20230414T081550Z
LAST-MODIFIED:20230504T031050Z
UID:16015-1683540000-1683547200@palliativecarewa.asn.au
SUMMARY:My Future Care – Advance Care Planning Workshop
DESCRIPTION:We all want to have a say in what happens in the last part of our lives. By making plans that cover our care\, lifestyle\, health and finances\, we work out what we want\, as well as making things easier on those around us. This process is called Advance Care Planning. \nThis workshop at Spearwood Library will cover information on what is involved in Advance Care Planning\, how to get started\, and how to talk with your loved ones about your end-of-life wishes. It is a practical and interactive workshop where you will have the chance to get your questions answered. \nWho is this for? \nThis face-to-face workshop is suitable for any community members regardless of age\, health or background. You don’t need any prior knowledge of Advance Care Planning to take part. To book your place please register via Eventbrite HERE. \nWant to organise a workshop? \nWe provide free community workshops on Advance Care Planning and Palliative Care thanks to funding from the WA Health Department. If you would like to organise a workshop for your own community group\, organisation or workplace please contact us on info@palliativecarewa.asn.au.
URL:https://palliativecarewa.asn.au/event/my-future-care-advance-care-planning-workshop-3/
LOCATION:Spearwood Library\, 9 Coleville Crescent\, Spearwood\, Western Australia\, Australia
END:VEVENT
BEGIN:VEVENT
DTSTART;TZID=Australia/Perth:20230504T100000
DTEND;TZID=Australia/Perth:20230504T120000
DTSTAMP:20260424T170306
CREATED:20230418T052746Z
LAST-MODIFIED:20230418T070731Z
UID:16060-1683194400-1683201600@palliativecarewa.asn.au
SUMMARY:My Future Care - Advance Care Planning Workshop - Not open to the public
DESCRIPTION:We all want to have a say in what happens in the last part of our lives. By making plans that cover our care\, lifestyle\, health and finances\, we work out what we want\, as well as making things easier on those around us. This process is called Advance Care Planning. \nThis workshop will cover information on what is involved in Advance Care Planning\, how to get started\, and how to talk with your loved ones about your end-of-life wishes. It is a practical and interactive workshop where you will have the chance to get your questions answered. \nWho is this for? \nThis workshop has been organised by Amana Living Lady McCusker Village\, Duncraig\, and is not open to the public. \nWant to organise a workshop? \nWe provide free community workshops on Advance Care Planning and Palliative Care thanks to funding from the WA Health Department. If you would like to organise a workshop for your own community group\, organisation or workplace please contact us on info@palliativecarewa.asn.au.
URL:https://palliativecarewa.asn.au/event/my-future-care-advance-care-planning-workshop-not-open-to-the-public-8/
LOCATION:Western Australia
END:VEVENT
BEGIN:VEVENT
DTSTART;TZID=Australia/Perth:20230502T100000
DTEND;TZID=Australia/Perth:20230502T120000
DTSTAMP:20260424T170306
CREATED:20230414T081411Z
LAST-MODIFIED:20230414T081411Z
UID:16013-1683021600-1683028800@palliativecarewa.asn.au
SUMMARY:My Future Care – Advance Care Planning Workshop – Not open to the public
DESCRIPTION:We all want to have a say in what happens in the last part of our lives. By making plans that cover our care\, lifestyle\, health and finances\, we work out what we want\, as well as making things easier on those around us. This process is called Advance Care Planning. \nThis workshop will cover information on what is involved in Advance Care Planning\, how to get started\, and how to talk with your loved ones about your end-of-life wishes. It is a practical and interactive workshop where you will have the chance to get your questions answered. \nWho is this for? \nThis workshop has been organised by Moline Village\, Amana Living\, and is not open to the public. \nWant to organise a workshop? \nWe provide free community workshops on Advance Care Planning and Palliative Care thanks to funding from the WA Health Department. If you would like to organise a workshop for your own community group\, organisation or workplace please contact us on info@palliativecarewa.asn.au.
URL:https://palliativecarewa.asn.au/event/my-future-care-advance-care-planning-workshop-not-open-to-the-public-2/
LOCATION:Western Australia
END:VEVENT
BEGIN:VEVENT
DTSTART;TZID=Australia/Perth:20230501T093000
DTEND;TZID=Australia/Perth:20230501T120000
DTSTAMP:20260424T170306
CREATED:20230418T052524Z
LAST-MODIFIED:20230418T053415Z
UID:16057-1682933400-1682942400@palliativecarewa.asn.au
SUMMARY:My Future Care – Advance Care Planning Workshop – Not open to the public
DESCRIPTION:We all want to have a say in what happens in the last part of our lives. By making plans that cover our care\, lifestyle\, health and finances\, we work out what we want\, as well as making things easier on those around us. This process is called Advance Care Planning. \nThis workshop will cover information on what is involved in Advance Care Planning\, how to get started\, and how to talk with your loved ones about your end-of-life wishes. It is a practical and interactive workshop where you will have the chance to get your questions answered. \nWho is this for? \nThis workshop has been organised by Kingsway Court Brightwater Retirement Village\, Madeley\, and is not open to the public. \nWant to organise a workshop? \nWe provide free community workshops on Advance Care Planning and Palliative Care thanks to funding from the WA Health Department. If you would like to organise a workshop for your own community group\, organisation or workplace please contact us on info@palliativecarewa.asn.au. \n  \n  \n 
URL:https://palliativecarewa.asn.au/event/my-future-care-advance-care-planning-workshop-not-open-to-the-public-7/
LOCATION:Kinsway Court Brightwater Retirement Village\, Madeley\, Australia
END:VEVENT
BEGIN:VEVENT
DTSTART;TZID=Australia/Perth:20230427T100000
DTEND;TZID=Australia/Perth:20230427T120000
DTSTAMP:20260424T170306
CREATED:20230414T081250Z
LAST-MODIFIED:20230414T081250Z
UID:16011-1682589600-1682596800@palliativecarewa.asn.au
SUMMARY:Palliative Care Workshop – Not open to the public
DESCRIPTION:Palliative care is care that helps people live their life as well as possible when they have a life-limiting condition or terminal illness. It is based on the individual and can cover their physical\, emotional\, spiritual or social needs. \nThis free\, interactive and informative workshop has been organised by St Jude’s Aged Care for their staff and is not open to the public. \nWhat is covered? \n\nWhat is palliative care\nWhen and how to access palliative care\nServices and resources\nGrief and loss\nThe role of advance care planning in person centred care\n\nWant to organise a workshop? \nWe provide free community workshops on Palliative Care and Advance Care Planning thanks to funding from the WA Health Department. If you would like to organise a workshop for your own community group\, organisation or workplace please contact us on info@palliativecarewa.asn.au.
URL:https://palliativecarewa.asn.au/event/palliative-care-workshop-not-open-to-the-public/
LOCATION:Western Australia
END:VEVENT
BEGIN:VEVENT
DTSTART;TZID=Australia/Perth:20230423T103000
DTEND;TZID=Australia/Perth:20230423T120000
DTSTAMP:20260424T170306
CREATED:20230414T081056Z
LAST-MODIFIED:20230414T081056Z
UID:16009-1682245800-1682251200@palliativecarewa.asn.au
SUMMARY:My Future Care – Advance Care Planning Workshop – Not open to the public
DESCRIPTION:We all want to have a say in what happens in the last part of our lives. By making plans that cover our care\, lifestyle\, health and finances\, we work out what we want\, as well as making things easier on those around us. This process is called Advance Care Planning. \nThis workshop will cover information on what is involved in Advance Care Planning\, how to get started\, and how to talk with your loved ones about your end-of-life wishes. It is a practical and interactive workshop where you will have the chance to get your questions answered. \nWho is this for? \nThis workshop has been organised by Visa Oshwal Indian Community and is not open to the public. \nWant to organise a workshop? \nWe provide free community workshops on Advance Care Planning and Palliative Care thanks to funding from the WA Health Department. If you would like to organise a workshop for your own community group\, organisation or workplace please contact us on info@palliativecarewa.asn.au.
URL:https://palliativecarewa.asn.au/event/my-future-care-advance-care-planning-workshop-not-open-to-the-public/
LOCATION:Western Australia
END:VEVENT
BEGIN:VEVENT
DTSTART;TZID=Australia/Perth:20230419T093000
DTEND;TZID=Australia/Perth:20230419T120000
DTSTAMP:20260424T170306
CREATED:20230414T080843Z
LAST-MODIFIED:20230414T080912Z
UID:16006-1681896600-1681905600@palliativecarewa.asn.au
SUMMARY:My Future Care - Advance Care Planning Workshop
DESCRIPTION:We all want to have a say in what happens in the last part of our lives. By making plans that cover our care\, lifestyle\, health and finances\, we work out what we want\, as well as making things easier on those around us. This process is called Advance Care Planning. \nThis workshop will cover information on what is involved in Advance Care Planning\, how to get started\, and how to talk with your loved ones about your end-of-life wishes. It is a practical and interactive workshop where you will have the chance to get your questions answered. \nWho is this for? \nThis workshop is for anyone in the Bunbury Community. Please RSVP by Monday 17 April 2023 to 0483 802 915 or swcomcomnetwork@gmail.com. \nWant to organise a workshop? \nWe provide free community workshops on Advance Care Planning and Palliative Care thanks to funding from the WA Health Department. If you would like to organise a workshop for your own community group\, organisation or workplace please contact us on info@palliativecarewa.asn.au.
URL:https://palliativecarewa.asn.au/event/my-future-care-advance-care-planning-workshop-2/
LOCATION:Western Australia
END:VEVENT
BEGIN:VEVENT
DTSTART;TZID=Australia/Perth:20230418T100000
DTEND;TZID=Australia/Perth:20230418T123000
DTSTAMP:20260424T170306
CREATED:20230414T080643Z
LAST-MODIFIED:20230414T080643Z
UID:16003-1681812000-1681821000@palliativecarewa.asn.au
SUMMARY:My Future Care - Advance Care Planning Workshop
DESCRIPTION:We all want to have a say in what happens in the last part of our lives. By making plans that cover our care\, lifestyle\, health and finances\, we work out what we want\, as well as making things easier on those around us. This process is called Advance Care Planning. \nThis workshop will cover information on what is involved in Advance Care Planning\, how to get started\, and how to talk with your loved ones about your end-of-life wishes. It is a practical and interactive workshop where you will have the chance to get your questions answered. \nWho is this for? \nThis workshop is for anyone in the Busselton Community. Places are limited. Please RSVP by Thursday 13 April 2023 to 9751 1642 or admin@busseltonhospicecareinc.org.au \nWant to organise a workshop? \nWe provide free community workshops on Advance Care Planning and Palliative Care thanks to funding from the WA Health Department. If you would like to organise a workshop for your own community group\, organisation or workplace please contact us on info@palliativecarewa.asn.au.
URL:https://palliativecarewa.asn.au/event/my-future-care-advance-care-planning-workshop/
LOCATION:Western Australia
END:VEVENT
BEGIN:VEVENT
DTSTART;TZID=Australia/Perth:20230405T100000
DTEND;TZID=Australia/Perth:20230405T113000
DTSTAMP:20260424T170306
CREATED:20220729T073456Z
LAST-MODIFIED:20230314T053544Z
UID:95-1680688800-1680694200@palliativecarewa.asn.au
SUMMARY:My Future Care - Advance Care Planning Workshop - online workshop
DESCRIPTION:Wednesday 5 April 2023\n10.00am to 11.30am\nMy Future Care – online community workshop\nWe all want to have a say in what happens in the last part of our lives. By making plans that cover our care\, lifestyle\, health and finances\, we work out what we want\, as well as making things easier on those around us. This process is called Advance Care Planning. \nThis online workshop will cover information on what is involved in Advance Care Planning\, how to get started\, and how to talk with your loved ones about your end-of-life wishes. It is a practical and interactive workshop where you will have the chance to get your questions answered. \nWho is this for? \nThis online workshop is suitable for any community members regardless of age\, health or background. You don’t need any prior knowledge of Advance Care Planning to take part. \nThanks to funding from the WA Department of Health\, our workshops are free for anyone living in Western Australia. There is a fee for community members from elsewhere in Australia. We are not able to offer these workshops to international participants. \nRegistration information \n\nRegistrations are essential and can be made on Eventbrite\nAfter you register we will send you a resource pack that you need to participate in the workshop.\nIf you register by Wednesday 29 March we will post you the resource pack. If you live in regional or remote areas of WA we recommend you registering as soon as possible to give extra time for the resource pack to reach you. Anyone registering after then\, will receive their pack via email or can access the pack online.\nCloser to the date we will email you the Zoom link to use to access the workshop.\n\nWhat else do you need to know? \n\nThis online workshop will be held using Zoom.\nWe will provide some tips on participating in online workshops and on using Zoom.\nWe recommend you use a desktop computer or tablet to get the most out of your workshop experience.\n\nAny questions? \nYou are welcome to contact us at Palliative Care WA if you have any questions on 1300 551 704 or info@palliativecarewa.asn.au. \nWant to organise a workshop? \nIf you would like to organise a free Advance Care Planning or Palliative Care community workshop for your own community group\, organisation or workplace please contact us on info@palliativecarewa.asn.au.
URL:https://palliativecarewa.asn.au/event/care-planning-workshop/
LOCATION:Western Australia
CATEGORIES:Community
ATTACH;FMTTYPE=image/jpeg:https://palliativecarewa.asn.au/wp-content/uploads/2023/03/ACP-model-talk-graphic.jpg
END:VEVENT
BEGIN:VEVENT
DTSTART;TZID=Australia/Perth:20230404T090000
DTEND;TZID=Australia/Perth:20230404T150000
DTSTAMP:20260424T170306
CREATED:20230220T101108Z
LAST-MODIFIED:20230519T060202Z
UID:11062-1680598800-1680620400@palliativecarewa.asn.au
SUMMARY:Palliative care volunteers – A crucial piece of the jigsaw – consultation and presentations
DESCRIPTION:‘Palliative care volunteering – A crucial piece of the jigsaw’\, a free Palliative Care WA consultation event on Tuesday 4 April 2023 at Mt Lawley Golf Club from 9.00am to 3.00pm is open for registrations. \nThis interesting and engaging event will identify existing and emerging palliative care volunteering opportunities across the State and invite input into the development of a strategic plan to progress palliative care volunteering in WA. See the program HERE. \nThe event will cover all aspects of palliative care volunteering and will include workshops and presentations from leaders in the volunteering and palliative care sectors\, and also a couple of fun interactive activities. \nPlease note that the event is also being offered online so rural and regional people who are unable to attend in person are able to contribute to the discussions. \nTo book visit https://www.eventbrite.com.au/…/palliative-care… \n 
URL:https://palliativecarewa.asn.au/event/palliative-care-volunteers-a-crucial-piece-of-the-jigsaw-consultation-and-presentations/
LOCATION:Mt Lawley Golf Club\, 1 Walter Rd West\, Inglewood\, WA\, Australia
CATEGORIES:Sector
ATTACH;FMTTYPE=image/png:https://palliativecarewa.asn.au/wp-content/uploads/2023/02/Palliative-care-volunteering-a-crucial-piece-of-the-jigsaw-LI-new.png
END:VEVENT
END:VCALENDAR