BEGIN:VCALENDAR
VERSION:2.0
PRODID:-//Palliative Care WA - ECPv6.15.20//NONSGML v1.0//EN
CALSCALE:GREGORIAN
METHOD:PUBLISH
X-WR-CALNAME:Palliative Care WA
X-ORIGINAL-URL:https://palliativecarewa.asn.au
X-WR-CALDESC:Events for Palliative Care WA
REFRESH-INTERVAL;VALUE=DURATION:PT1H
X-Robots-Tag:noindex
X-PUBLISHED-TTL:PT1H
BEGIN:VTIMEZONE
TZID:Australia/Perth
BEGIN:STANDARD
TZOFFSETFROM:+0800
TZOFFSETTO:+0800
TZNAME:AWST
DTSTART:20240101T000000
END:STANDARD
END:VTIMEZONE
BEGIN:VEVENT
DTSTART;TZID=Australia/Perth:20250906T140000
DTEND;TZID=Australia/Perth:20250906T160000
DTSTAMP:20260419T205332
CREATED:20250708T072407Z
LAST-MODIFIED:20250708T073258Z
UID:18678-1757167200-1757174400@palliativecarewa.asn.au
SUMMARY:Death Cafe open to LGBTQI+ people and allies
DESCRIPTION:LGBTQI+ people and allies are invited to a death cafe on Saturday 6 September at the Pride Centre\, Northbridge. \nTo attend\, please email eo@grai.org.au \nDeathcafe.com is a worldwide movement started in London in 2010 by Jon Underwood and Sue Barsky Reid\, based on the ideas of Swiss Sociologist Bernard Crettaz. The objective of the deathcafe.com movement is “to increase awareness of death with a view to helping people make the most of their (finite) lives”.  \nPalliative Care WA recognises the importance of death cafes and their role in helping people increase their awareness of death and dying. \nOf course\, cake\, tea or coffee always helps the conversation flow!
URL:https://palliativecarewa.asn.au/event/death-cafe-open-to-lgbtqi-people-and-allies-2/
LOCATION:Pride Centre\, 142 James Street\, Northbridge\, WA\, Australia
CATEGORIES:Community
ATTACH;FMTTYPE=image/jpeg:https://palliativecarewa.asn.au/wp-content/uploads/2025/07/DeathCafeSept-LGBTQI.jpg
END:VEVENT
END:VCALENDAR